BEGIN:VCALENDAR
VERSION:2.0
PRODID:-//Cabernet &amp; Canvas - ECPv6.15.16//NONSGML v1.0//EN
CALSCALE:GREGORIAN
METHOD:PUBLISH
X-WR-CALNAME:Cabernet &amp; Canvas
X-ORIGINAL-URL:https://staging.cabernetandcanvas.com.au
X-WR-CALDESC:Events for Cabernet &amp; Canvas
REFRESH-INTERVAL;VALUE=DURATION:PT1H
X-Robots-Tag:noindex
X-PUBLISHED-TTL:PT1H
BEGIN:VTIMEZONE
TZID:Australia/Perth
BEGIN:STANDARD
TZOFFSETFROM:+0800
TZOFFSETTO:+0800
TZNAME:AWST
DTSTART:20240101T000000
END:STANDARD
END:VTIMEZONE
BEGIN:VEVENT
DTSTART;TZID=Australia/Perth:20250731T183000
DTEND;TZID=Australia/Perth:20250731T210000
DTSTAMP:20260422T040202
CREATED:20250608T094346Z
LAST-MODIFIED:20250608T094346Z
UID:10002176-1753986600-1753995600@staging.cabernetandcanvas.com.au
SUMMARY:Paint Your Pet @ the Como Hotel
DESCRIPTION:Join us at the Como Hotel\, for our popular Paint Your Pet\, Paint & Sip class! \nDon’t know what it is? \nPaint Your Pet is one of our most popular workshop experiences\, where you get to paint whacky colourful portraits of your Pet! Can’t paint? Don’t worry\, we draw inspiration from Picasso for these sessions\, so they are intentionally unrealistic. These Piccasso-esque paintings are sure to brighten up any room! \nWhat you need to know: \n\nWhere: Como Hotel (241 Canning Highway\, Como)\n\n\nWhen: Thursday the 31st of July 2025\n\n\nTime: Arrive at 6.15pm for a 6.30pm start… Sharp!\n\n\nDuration: Class will run for approximately 2—2.5 hours\n\nTickets include all required painting materials. Just show up ready to have a good time and wear something you don’t mind getting paint on… just in case! \nAbout Cabernet & Canvas \nWelcome to Cabernet & Canvas\, Perth’s original hub of creative workshops. Enrol now and experience one of our famous Paint & Sip classes where we teach you step-by-step how to recreate an acrylic painting on canvas. We’ve been teaching these classes for 10 + years\, so don’t worry if you have no painting experience – we will work our magic! \nOur classes are designed to be fun\, social and achievable for beginners. Come on your own or bring a friend. No prior painting experience is required. \nVenue Information \nA retro favourite just south of Perth’s CBD\, Como Hotel has been revamped and brought to life with a multi-million-dollar refurbishment taking this classic heritage pub into a new era with contemporary style. The Art Deco heritage is enhanced with contemporary style to create a beautiful fusion of old and new. \nTheir funky bar is known for a selection of beers on tap\, plus a wide variety of wine and spirits to choose from. Menus feature fresh ingredients from local suppliers\, including succulent steaks\, fresh seafood and all the pub classics taken to the next level. \nYou can learn more about the Como Hotel here. \nHave a Question? \nCheck out our helpful FAQ’s at the bottom of this page\, or flick us a message via the Contact Us form. \nClick here to view our Privacy Policy and Terms and Conditions.
URL:https://staging.cabernetandcanvas.com.au/event/paint-your-pet-the-como-hotel/
LOCATION:Como Hotel\, 241 Canning Highway\, Como\, WA\, 6152\, Australia
CATEGORIES:Como,Paint & Sip
ATTACH;FMTTYPE=image/jpeg:https://staging.cabernetandcanvas.com.au/wp-content/uploads/2025/06/Paint-Your-Pet-Promo-Image.jpg
ORGANIZER;CN="Cabernet & Canvas":MAILTO:hello@cabernetandcanvas.com.au.
GEO:-31.9878491;115.870978
X-APPLE-STRUCTURED-LOCATION;VALUE=URI;X-ADDRESS=Como Hotel 241 Canning Highway Como WA 6152 Australia;X-APPLE-RADIUS=500;X-TITLE=241 Canning Highway:geo:115.870978,-31.9878491
END:VEVENT
BEGIN:VEVENT
DTSTART;TZID=Australia/Perth:20250626T183000
DTEND;TZID=Australia/Perth:20250626T210000
DTSTAMP:20260422T040202
CREATED:20250608T093406Z
LAST-MODIFIED:20250618T122313Z
UID:10002175-1750962600-1750971600@staging.cabernetandcanvas.com.au
SUMMARY:Paint Your Mate @ the Como Hotel
DESCRIPTION:Join us at the Como Hotel\, for our popular Paint Your Mate Paint & Sip class! \nGet in quick as this one is a crowd favourite! \nDon’t know what it is? \nPaint Your Mate is one of most popular workshop experiences\, where you get to paint whacky colourful portraits of friends\, family members or even yourself. Can’t paint? Don’t worry\, we draw inspiration from Picasso for these sessions\, so they are intentionally unrealistic. These Piccasso-esque paintings are sure to brighten up any room! \nWhat you need to know: \n\nWhere: Como Hotel (243 Canning Highway\, Como)\n\n\nWhen: Thursday the 26th of June 2025\n\n\nTime: Arrive at 6.15pm for a 6.30pm start… Sharp!\n\n\nDuration: Class will run for approximately 2—2.5 hours\n\nTickets include all required painting materials. Just show up ready to have a good time and wear something you don’t mind getting paint on… just in case! \nAbout Cabernet & Canvas \nWelcome to Cabernet & Canvas\, Perth’s original hub of creative workshops. Enrol now and experience one of our famous Paint & Sip classes where we teach you step-by-step how to recreate an acrylic painting on canvas. We’ve been teaching these classes for 10 + years\, so don’t worry if you have no painting experience – we will work our magic! \nOur classes are designed to be fun\, social and achievable for beginners. Come on your own or bring a friend. No prior painting experience is required. \nVenue Information \nA retro favourite just south of Perth’s CBD\, Como Hotel has been revamped and brought to life with a multi-million-dollar refurbishment taking this classic heritage pub into a new era with contemporary style. The Art Deco heritage is enhanced with contemporary style to create a beautiful fusion of old and new. \nTheir funky bar is known for a selection of beers on tap\, plus a wide variety of wine and spirits to choose from. Menus feature fresh ingredients from local suppliers\, including succulent steaks\, fresh seafood and all the pub classics taken to the next level. \nYou can learn more about the Como Hotel here. \nHave a Question? \nCheck out our helpful FAQ’s at the bottom of this page\, or flick us a message via the Contact Us form. \nClick here to view our Privacy Policy and Terms and Conditions.
URL:https://staging.cabernetandcanvas.com.au/event/paint-your-mate-the-como-hotel/
LOCATION:Como Hotel\, 241 Canning Highway\, Como\, WA\, 6152\, Australia
CATEGORIES:Como,Paint & Sip
ATTACH;FMTTYPE=image/jpeg:https://staging.cabernetandcanvas.com.au/wp-content/uploads/2025/06/PaintYourMatemaingirls-1.jpg
ORGANIZER;CN="Cabernet & Canvas":MAILTO:hello@cabernetandcanvas.com.au.
GEO:-31.9878491;115.870978
X-APPLE-STRUCTURED-LOCATION;VALUE=URI;X-ADDRESS=Como Hotel 241 Canning Highway Como WA 6152 Australia;X-APPLE-RADIUS=500;X-TITLE=241 Canning Highway:geo:115.870978,-31.9878491
END:VEVENT
END:VCALENDAR