BEGIN:VCALENDAR
VERSION:2.0
PRODID:-//Cabernet &amp; Canvas - ECPv6.15.16//NONSGML v1.0//EN
CALSCALE:GREGORIAN
METHOD:PUBLISH
X-WR-CALNAME:Cabernet &amp; Canvas
X-ORIGINAL-URL:https://staging.cabernetandcanvas.com.au
X-WR-CALDESC:Events for Cabernet &amp; Canvas
REFRESH-INTERVAL;VALUE=DURATION:PT1H
X-Robots-Tag:noindex
X-PUBLISHED-TTL:PT1H
BEGIN:VTIMEZONE
TZID:Australia/Perth
BEGIN:STANDARD
TZOFFSETFROM:+0800
TZOFFSETTO:+0800
TZNAME:AWST
DTSTART:20220101T000000
END:STANDARD
END:VTIMEZONE
BEGIN:VEVENT
DTSTART;TZID=Australia/Perth:20250510T183000
DTEND;TZID=Australia/Perth:20250510T210000
DTSTAMP:20260421T035455
CREATED:20250413T040855Z
LAST-MODIFIED:20250426T080528Z
UID:10002146-1746901800-1746910800@staging.cabernetandcanvas.com.au
SUMMARY:Rottnest Lighthouse
DESCRIPTION:Welcome to Cabernet & Canvas\, Perth’s original hub of creative workshops. Enrol now and experience one of our famous Paint & Sip classes where we teach you step-by-step how to recreate an acrylic painting on canvas. We’ve been teaching these classes for 10 + years\, so don’t worry if you have no painting experience – we will work our magic! \nFor this class we will be painting Rottnest Lighthouse\, a crowd favourite!! \nWhat you need to know: \n\nWhere: Tavern At The Rocks (20 Enterprise Ave\, Two Rocks WA 6037)\n\n\nWhen: Saturday the 10th of May\, 2025\n\n\nTime: Arrive 6:15pm for a 6:30pm start… Sharp!\n\n\nDuration: Class will run for approximately 2—2.5 hours\n\nTickets include all required painting materials. Just show up ready to have a good time and wear something you don’t mind getting paint on… just in case! \nVenue Information \nLocated on the footsteps of the Two Rocks marina with sweeping views of the Indian Ocean\, Tavern At The Rocks gives a fantastic setting to enjoy your next evening out. \nYou can find out more about Tavern At The Rocks on their website here. Unfortunately\, this venue has no wheelchair accessibility. \nAbout Cabernet & Canvas \nOur classes are designed to be fun\, social and achievable for beginners. Come on your own or bring a friend. Our artist will walk you through the process step-by-step whilst offering suggestions on how to individualize your artwork. Anyone and everyone are welcome. No prior painting experience is required. \nHave a Question? \nCheck out our helpful FAQ’s at the bottom of this page or flick us a message via the Contact Us form. \nClick here to view our Privacy Policy and Terms and Conditions.
URL:https://staging.cabernetandcanvas.com.au/event/rottnest-lighthouse-2/
LOCATION:Tavern At The Rocks\, Tavern At The Rocks\, Two Rocks\, WA\, 6037\, Australia
CATEGORIES:Paint & Sip,Two Rocks,Weekend Class
ATTACH;FMTTYPE=image/jpeg:https://staging.cabernetandcanvas.com.au/wp-content/uploads/2025/04/Rottnest-Lighthouse-display-pic.jpg
ORGANIZER;CN="Cabernet & Canvas":MAILTO:hello@cabernetandcanvas.com.au.
GEO:-31.4961672;115.5848
X-APPLE-STRUCTURED-LOCATION;VALUE=URI;X-ADDRESS=Tavern At The Rocks Tavern At The Rocks Two Rocks WA 6037 Australia;X-APPLE-RADIUS=500;X-TITLE=Tavern At The Rocks:geo:115.5848,-31.4961672
END:VEVENT
BEGIN:VEVENT
DTSTART;TZID=Australia/Perth:20240309T120000
DTEND;TZID=Australia/Perth:20240309T150000
DTSTAMP:20260421T035455
CREATED:20231129T055007Z
LAST-MODIFIED:20240226T032651Z
UID:10001958-1709985600-1709996400@staging.cabernetandcanvas.com.au
SUMMARY:Cable Beach Camels
DESCRIPTION:Welcome to Cabernet & Canvas\, Perth’s original hub of creative workshops. Enroll now and experience one of our famous Paint & Sip classes where we teach you step-by-step how to recreate an acrylic painting on canvas. We’ve been teaching these classes for 10 + years\, so don’t worry if you have no painting experience – we will work our magic! \nFor this class we will be painting Cable Beach Camels\,  a crowd favourite!! \nWhat you need to know: \n\nWhere: Tavern At The Rocks (20 Enterprise Ave\, Two Rocks WA 6037)\n\n\nWhen: Saturday the 9th of March\, 2024\n\n\nTime: Arrive at 11.30am for a 12.00pm start… Sharp!\n\n\nDuration: Class will run for approximately 2—2.5 hours\n\nTickets include all required painting materials and a $15 voucher for food & drink. Just show up ready to have a good time and wear something you don’t mind getting paint on… just in case! \nVenue Information \nYou can find out more about Tavern At The Rocks on their website here. Unfortunately\, this venue has no wheelchair accessibility. \nAbout Cabernet & Canvas \nOur classes are designed to be fun\, social and achievable for beginners. Come on your own or bring a friend. Our artist will walk you through the process step-by-step whilst offering suggestions on how to individualize your artwork. Anyone and everyone is welcome. No prior painting experience is required. \nHave a Question? \nCheck out our helpful FAQ’s at the bottom of this page\, or flick us a message via the Contact Us form. \nClick here to view our Privacy Policy and Terms and Conditions.
URL:https://staging.cabernetandcanvas.com.au/event/cable-beach-camels-two-rocks/
LOCATION:Tavern At The Rocks\, Tavern At The Rocks\, Two Rocks\, WA\, 6037\, Australia
CATEGORIES:Paint & Sip,Two Rocks,Weekend Class
ATTACH;FMTTYPE=image/jpeg:https://staging.cabernetandcanvas.com.au/wp-content/uploads/2023/11/Cable-Beach-Camel-Train.jpg
ORGANIZER;CN="Cabernet & Canvas":MAILTO:hello@cabernetandcanvas.com.au.
GEO:-31.4961672;115.5848
X-APPLE-STRUCTURED-LOCATION;VALUE=URI;X-ADDRESS=Tavern At The Rocks Tavern At The Rocks Two Rocks WA 6037 Australia;X-APPLE-RADIUS=500;X-TITLE=Tavern At The Rocks:geo:115.5848,-31.4961672
END:VEVENT
BEGIN:VEVENT
DTSTART;TZID=Australia/Perth:20231111T130000
DTEND;TZID=Australia/Perth:20231111T160000
DTSTAMP:20260421T035455
CREATED:20231004T061131Z
LAST-MODIFIED:20231113T023142Z
UID:10001880-1699707600-1699718400@staging.cabernetandcanvas.com.au
SUMMARY:Hamelin Bay Stingrays
DESCRIPTION:Paint & Sip Event: Hamelin Bay Stingrays \nWelcome to Cabernet & Canvas\, where we teach you step-by-step how to recreate a painting on canvas. Join us for a night of fun as we attempt to re-create our original painting\, Hamelin Bay Stingrays! \nTickets include a $15 voucher to be spent at the venue on food or beverages so you can paint and sip the night away. \nWhat you need to know: \n\nWhere: Tavern at The Rocks\, Two Rocks\n\n\nWhen: Saturday the 11th of November\, 2023\n\n\nTime: Arrive 12:45pm for a 1:00pm start\n\n\nDuration: Class will run for approximately 2—2.5 hours\n\nTickets include all required painting materials. Just show up ready to have a good time and wear something you don’t mind getting paint on… just in case! \nAbout Cabernet & Canvas\n \nOur classes are designed to be fun\, social and achievable for beginners. Come on your own or bring a friend. Our artist will walk you through the process step-by-step whilst offering suggestions on how to individualise your artwork. Anyone and everyone is welcome\, no prior painting experience required. \nAbout the Venue \n\nPlease note this is a licensed venue\, so B.Y.O. is not permitted. There will be food and drink available for purchase at the venue.\n\nTerms & Conditions \nFor questions regarding booking\, registration\, and general information\, please contact us at hello@cabernetandcanvas.com.au or view our  Privacy Policy and Terms and Conditions.
URL:https://staging.cabernetandcanvas.com.au/event/hamelin-bay-stingrays/
LOCATION:Tavern At The Rocks\, Tavern At The Rocks\, Two Rocks\, WA\, 6037\, Australia
CATEGORIES:Paint & Sip,Two Rocks,Weekend Class
ATTACH;FMTTYPE=image/jpeg:https://staging.cabernetandcanvas.com.au/wp-content/uploads/2023/10/Hamelin-Bay-Stingrays.jpg
ORGANIZER;CN="Cabernet & Canvas":MAILTO:hello@cabernetandcanvas.com.au.
GEO:-31.4961672;115.5848
X-APPLE-STRUCTURED-LOCATION;VALUE=URI;X-ADDRESS=Tavern At The Rocks Tavern At The Rocks Two Rocks WA 6037 Australia;X-APPLE-RADIUS=500;X-TITLE=Tavern At The Rocks:geo:115.5848,-31.4961672
END:VEVENT
END:VCALENDAR