BEGIN:VCALENDAR
VERSION:2.0
PRODID:-//Cabernet &amp; Canvas - ECPv6.15.16//NONSGML v1.0//EN
CALSCALE:GREGORIAN
METHOD:PUBLISH
X-WR-CALNAME:Cabernet &amp; Canvas
X-ORIGINAL-URL:https://staging.cabernetandcanvas.com.au
X-WR-CALDESC:Events for Cabernet &amp; Canvas
REFRESH-INTERVAL;VALUE=DURATION:PT1H
X-Robots-Tag:noindex
X-PUBLISHED-TTL:PT1H
BEGIN:VTIMEZONE
TZID:Australia/Perth
BEGIN:STANDARD
TZOFFSETFROM:+0800
TZOFFSETTO:+0800
TZNAME:AWST
DTSTART:20240101T000000
END:STANDARD
END:VTIMEZONE
BEGIN:VEVENT
DTSTART;TZID=Australia/Perth:20250930T103000
DTEND;TZID=Australia/Perth:20250930T130000
DTSTAMP:20260422T072917
CREATED:20250807T090330Z
LAST-MODIFIED:20250807T090330Z
UID:10002204-1759228200-1759237200@staging.cabernetandcanvas.com.au
SUMMARY:Kookaburra Laugh
DESCRIPTION:Welcome to Cabernet & Canvas\, Perth’s original hub of creative workshops. Enrol now and experience one of our famous Paint & Sip classes where we teach you step-by-step how to recreate an acrylic painting on canvas. We’ve been teaching these classes for 10 + years\, so don’t worry if you have no painting experience – we will work our magic! \nFor this class we will be painting Kookaburra Laugh at the Yates’ Springtime at Araluen Tulip Festival. \nTickets include entry to Araluen’s Must-See Springtime Tulip Festival! \nWhat you need to know: \n\nWhere: Araluen Botanic Park (362 Croyden Rd\, Roleystone WA 6111) \n\n\nWhen: Tuesday 30th September 10:30am – 1:00pm.\n\n\nTime: Arrive at 10.15am for a 10.30am start… Sharp!\n\n\nDuration: 2.5 – 3hrs and then we strongly recommend you explore the stunning Araluen Tulip Festival. It’s the perfect Spring Day out!\n\nInclusions:\n\nAll required materials to produce your masterpiece\nStep-by-step guidance from our bubbly instructor\nEntry fee to the park\n\nVenue Information \nExperience the magic of spring at Araluen’s Springtime Tulip Festival\, the highlight of the year you won’t want to miss. Set in the breathtaking Araluen valley\, with its giant canopy of bushland\, the park transforms into a vibrant kaleidoscope of colour and beauty. Feast your senses on 250\,000 tulips\, 70\,000 delightful spring bulbs\, an international camellia collection\, and heritage roses in full bloom. Join us for this rare and enchanting event\, where Mother Nature’s wonders are on full display! \nAs you stroll through the park\, you’ll feel as if you’re walking in a dream. The sculptured park grounds\, nestled in the Perth Hills valley\, span 59 hectares of pristine bushland and are shaded by a giant tree canopy. The picturesque stone colonnades and charming log cabin create a romantic setting. \n You can find out more about Araluen Botanic Park on their website here.  \nAbout Cabernet & Canvas \nOur classes are designed to be fun\, social and achievable for beginners. Come on your own or bring a friend. Our artist will walk you through the process step-by-step whilst offering suggestions on how to individualise your artwork. Anyone and everyone are welcome. No prior painting experience is required. \nHave a Question? \nCheck out our helpful FAQ’s at the bottom of this page\, or flick us a message via the Contact Us form. \nClick here to view our Privacy Policy and Terms and Conditions.
URL:https://staging.cabernetandcanvas.com.au/event/kookaburra-laugh-2/
LOCATION:Araluen Botanic Park\, 362 Croyden Rd\, Roleystone\, WA\, 6111\, Australia
CATEGORIES:Paint & Sip,Roleystone,Special Events,Weekend Class
ATTACH;FMTTYPE=image/jpeg:https://staging.cabernetandcanvas.com.au/wp-content/uploads/2023/06/Laugh-Kookaburra-Laugh-1.jpg
ORGANIZER;CN="Cabernet & Canvas":MAILTO:hello@cabernetandcanvas.com.au.
GEO:-32.1232522;116.1019932
X-APPLE-STRUCTURED-LOCATION;VALUE=URI;X-ADDRESS=Araluen Botanic Park 362 Croyden Rd Roleystone WA 6111 Australia;X-APPLE-RADIUS=500;X-TITLE=362 Croyden Rd:geo:116.1019932,-32.1232522
END:VEVENT
BEGIN:VEVENT
DTSTART;TZID=Australia/Perth:20250930T140000
DTEND;TZID=Australia/Perth:20250930T163000
DTSTAMP:20260422T072917
CREATED:20250807T111217Z
LAST-MODIFIED:20250807T111217Z
UID:10002214-1759240800-1759249800@staging.cabernetandcanvas.com.au
SUMMARY:Tiptoe Through the Tulips
DESCRIPTION:Welcome to Cabernet & Canvas\, Perth’s original hub of creative workshops. Enrol now and experience one of our famous Paint & Sip classes where we teach you step-by-step how to recreate an acrylic painting on canvas. We’ve been teaching these classes for 10 + years\, so don’t worry if you have no painting experience – we will work our magic! \nFor this class we will be painting Tiptoe Through the Tulips at the Yates’ Springtime at Araluen Tulip Festival. \nTickets include entry to Araluen’s Must-See Springtime Tulip Festival! \nWhat you need to know: \n\nWhere: Araluen Botanic Park (362 Croyden Rd\, Roleystone WA 6111) \n\n\nWhen: Tuesday 30th September 2:00pm – 4:30pm.\n\n\nTime: Arrive at 1.45pm for a 2.00pm start… Sharp!\n\n\nDuration: 2.5 – 3hrs and then we strongly recommend you explore the stunning Araluen Tulip Festival. It’s the perfect Spring Day out!\n\nInclusions:\n\nAll required materials to produce your masterpiece\nStep-by-step guidance from our bubbly instructor\nEntry fee to the park\n\nVenue Information \nExperience the magic of spring at Araluen’s Springtime Tulip Festival\, the highlight of the year you won’t want to miss. Set in the breathtaking Araluen valley\, with its giant canopy of bushland\, the park transforms into a vibrant kaleidoscope of colour and beauty. Feast your senses on 250\,000 tulips\, 70\,000 delightful spring bulbs\, an international camellia collection\, and heritage roses in full bloom. Join us for this rare and enchanting event\, where Mother Nature’s wonders are on full display! \nAs you stroll through the park\, you’ll feel as if you’re walking in a dream. The sculptured park grounds\, nestled in the Perth Hills valley\, span 59 hectares of pristine bushland and are shaded by a giant tree canopy. The picturesque stone colonnades and charming log cabin create a romantic setting. \n You can find out more about Araluen Botanic Park on their website here.  \nAbout Cabernet & Canvas \nOur classes are designed to be fun\, social and achievable for beginners. Come on your own or bring a friend. Our artist will walk you through the process step-by-step whilst offering suggestions on how to individualise your artwork. Anyone and everyone are welcome. No prior painting experience is required. \nHave a Question? \nCheck out our helpful FAQ’s at the bottom of this page\, or flick us a message via the Contact Us form. \nClick here to view our Privacy Policy and Terms and Conditions.
URL:https://staging.cabernetandcanvas.com.au/event/tiptoe-through-the-tulips-2/
LOCATION:Araluen Botanic Park\, 362 Croyden Rd\, Roleystone\, WA\, 6111\, Australia
CATEGORIES:Paint & Sip,Roleystone,Special Events
ATTACH;FMTTYPE=image/jpeg:https://staging.cabernetandcanvas.com.au/wp-content/uploads/2023/06/Tiptoe-Through-the-Tulips-1.jpg
ORGANIZER;CN="Cabernet & Canvas":MAILTO:hello@cabernetandcanvas.com.au.
GEO:-32.1232522;116.1019932
X-APPLE-STRUCTURED-LOCATION;VALUE=URI;X-ADDRESS=Araluen Botanic Park 362 Croyden Rd Roleystone WA 6111 Australia;X-APPLE-RADIUS=500;X-TITLE=362 Croyden Rd:geo:116.1019932,-32.1232522
END:VEVENT
END:VCALENDAR