BEGIN:VCALENDAR
VERSION:2.0
PRODID:-//Cabernet &amp; Canvas - ECPv6.15.16//NONSGML v1.0//EN
CALSCALE:GREGORIAN
METHOD:PUBLISH
X-ORIGINAL-URL:https://staging.cabernetandcanvas.com.au
X-WR-CALDESC:Events for Cabernet &amp; Canvas
REFRESH-INTERVAL;VALUE=DURATION:PT1H
X-Robots-Tag:noindex
X-PUBLISHED-TTL:PT1H
BEGIN:VTIMEZONE
TZID:Australia/Perth
BEGIN:STANDARD
TZOFFSETFROM:+0800
TZOFFSETTO:+0800
TZNAME:AWST
DTSTART:20240101T000000
END:STANDARD
END:VTIMEZONE
BEGIN:VEVENT
DTSTART;TZID=Australia/Perth:20251220T103000
DTEND;TZID=Australia/Perth:20251220T123000
DTSTAMP:20260421T121026
CREATED:20251109T001520Z
LAST-MODIFIED:20251109T001520Z
UID:10002292-1766226600-1766233800@staging.cabernetandcanvas.com.au
SUMMARY:Santa's Sleigh: Family Class
DESCRIPTION:Welcome to Cabernet & Canvas\, Perth’s original hub of creative workshops. Enrol now for you and your little one to experience our Christmas Santa’s Sleigh! \n We will guide you step-by-step through creating your own Santa’s Sleigh painting. Glitter included! \nWhat you need to know: \n\nWhere: The Cabernet & Canvas Studio (2/17 Hulme Court\, Myaree)\n\n\nWhen: Saturday 20th December 2025\n\n\nTime: Arrive at 10.15am for a 10.30am start… Sharp!\n\n\nDuration: Class will run for approximately 1.5—2 hours\n\nVenue Information \nOur beautiful studio is located in Myaree and is completely BYO so please don’t forget to bring your favourite snacks and beverages. You can also add on one of our delicious grazing boxes at checkout.  \nAbout Cabernet & Canvas \nOur classes are designed to be fun\, social and achievable for beginners. Come on your own or bring a friend. Our artist will walk you through the process step-by-step whilst offering suggestions on how to individualise your artwork. Anyone and everyone are welcome. No prior painting experience is required. \nHave a Question? \nCheck out our helpful FAQ’s at the bottom of this page\, or flick us a message via the Contact Us form. \nClick here to view our Privacy Policy and Terms and Conditions.
URL:https://staging.cabernetandcanvas.com.au/event/santas-sleigh-family-class/
LOCATION:The Studio – Myaree\, 2/17 Hulme Ct\, Myaree\, WA\, 6154\, Australia
CATEGORIES:Christmas,Family Class,Junior Class,Myaree,Paint & Sip,Weekend Class
ATTACH;FMTTYPE=image/jpeg:https://staging.cabernetandcanvas.com.au/wp-content/uploads/2025/11/Website-Painting-Gallery-Tiles-400-x-400-px.jpg
ORGANIZER;CN="Cabernet & Canvas":MAILTO:hello@cabernetandcanvas.com.au.
GEO:-32.044463429758;115.81179955691
X-APPLE-STRUCTURED-LOCATION;VALUE=URI;X-ADDRESS=The Studio – Myaree 2/17 Hulme Ct Myaree WA 6154 Australia;X-APPLE-RADIUS=500;X-TITLE=2/17 Hulme Ct:geo:115.81179955691,-32.044463429758
END:VEVENT
END:VCALENDAR