BEGIN:VCALENDAR
VERSION:2.0
PRODID:-//Cabernet &amp; Canvas - ECPv6.15.16//NONSGML v1.0//EN
CALSCALE:GREGORIAN
METHOD:PUBLISH
X-WR-CALNAME:Cabernet &amp; Canvas
X-ORIGINAL-URL:https://staging.cabernetandcanvas.com.au
X-WR-CALDESC:Events for Cabernet &amp; Canvas
REFRESH-INTERVAL;VALUE=DURATION:PT1H
X-Robots-Tag:noindex
X-PUBLISHED-TTL:PT1H
BEGIN:VTIMEZONE
TZID:Australia/Perth
BEGIN:STANDARD
TZOFFSETFROM:+0800
TZOFFSETTO:+0800
TZNAME:AWST
DTSTART:20240101T000000
END:STANDARD
END:VTIMEZONE
BEGIN:VEVENT
DTSTART;TZID=Australia/Perth:20251007T103000
DTEND;TZID=Australia/Perth:20251007T123000
DTSTAMP:20260421T134701
CREATED:20250930T094003Z
LAST-MODIFIED:20250930T094003Z
UID:10002240-1759833000-1759840200@staging.cabernetandcanvas.com.au
SUMMARY:Junior Class: Koala Cuddles
DESCRIPTION:Welcome to Cabernet & Canvas\, Perth’s original hub of creative workshops. Enrol now and experience one of our amazing School Holidays events where we teach you and your kiddies step-by-step how to recreate an acrylic painting on canvas. \n For this class we are painting our beautiful painting Koala Cuddles! \nComplimentary fruit box and fresh fruit! \nWhat you need to know: \n\nWhere: The Cabernet & Canvas Studio; 2/17 Hulme Court\, Myaree.\n7When: Tuesday 7th of October\, 2025\nTime: Arrive 10:15am for a 10:30am start\nDuration: Class will run for approximately 2 hours.\nAge: Recommended age 5+ to 15 years.\n\nTickets include all required painting materials. Just show up ready to have a good time and wear something you don’t mind getting paint on… just in case! \nVenue Information \nOur beautiful studio is located in Myaree. \nAbout Cabernet & Canvas \nOur classes are designed to be fun\, social and achievable for beginners. Come on your own or bring a friend. Our artist will walk you through the process step-by-step whilst offering suggestions on how to individualise your artwork. Anyone and everyone are welcome. No prior painting experience is required. \nHave a Question? \nCheck out our helpful FAQ’s at the bottom of this page\, or flick us a message via the Contact Us form. \nClick here to view our Privacy Policy and Terms and Conditions.
URL:https://staging.cabernetandcanvas.com.au/event/junior-class-koala-cuddles/
LOCATION:The Studio – Myaree\, 2/17 Hulme Ct\, Myaree\, WA\, 6154\, Australia
CATEGORIES:Junior Class,Myaree,Paint & Sip
ATTACH;FMTTYPE=image/jpeg:https://staging.cabernetandcanvas.com.au/wp-content/uploads/2025/09/Koala-Love.jpg
ORGANIZER;CN="Cabernet & Canvas":MAILTO:hello@cabernetandcanvas.com.au.
GEO:-32.044463429758;115.81179955691
X-APPLE-STRUCTURED-LOCATION;VALUE=URI;X-ADDRESS=The Studio – Myaree 2/17 Hulme Ct Myaree WA 6154 Australia;X-APPLE-RADIUS=500;X-TITLE=2/17 Hulme Ct:geo:115.81179955691,-32.044463429758
END:VEVENT
BEGIN:VEVENT
DTSTART;TZID=Australia/Perth:20251009T140000
DTEND;TZID=Australia/Perth:20251009T160000
DTSTAMP:20260421T134701
CREATED:20250930T103636Z
LAST-MODIFIED:20250930T103636Z
UID:10002243-1760018400-1760025600@staging.cabernetandcanvas.com.au
SUMMARY:Mini Monets: Waterlilies
DESCRIPTION:Enrol your little one these School Holidays and experience our Mini Monet Workshop! \n The kids will walk away with their own interpretation of Monet’s Waterlilies. Book now and thank us later. \nParents are welcome to kiss and drop.  \nWhat you need to know: \n\nWhere: The Cabernet and Canvas Studio (2/17 Hulme Court\, Myaree)\nWhen: Thursday the 9th of October 2025\nTime: Arrive 1:45pm for a 2:00pm start\nDuration: Class will run for approximately 2 hours\nAge: Recommended age of 5+\n\nTickets include all required painting materials. Just show up ready to have a good time and wear something you don’t mind getting paint on… just in case! \nVenue Information \nOur beautiful BYO studio is located in Myaree.  \nAbout Cabernet & Canvas \nOur classes are designed to be fun\, social and achievable for beginners. Come on your own or bring a friend. Our artist will walk you through the process step-by-step whilst offering suggestions on how to individualise your artwork. Anyone and everyone are welcome. No prior painting experience is required. \nHave a Question? \nCheck out our helpful FAQ’s at the bottom of this page\, or flick us a message via the Contact Us form. \nClick here to view our Privacy Policy and Terms and Conditions.
URL:https://staging.cabernetandcanvas.com.au/event/mini-monets-waterlilies/
LOCATION:The Studio – Myaree\, 2/17 Hulme Ct\, Myaree\, WA\, 6154\, Australia
CATEGORIES:Junior Class,Myaree,Paint & Sip,Special Events
ATTACH;FMTTYPE=image/jpeg:https://staging.cabernetandcanvas.com.au/wp-content/uploads/2024/02/Screenshot-2024-02-28-at-2.56.56-pm.jpg
ORGANIZER;CN="Cabernet & Canvas":MAILTO:hello@cabernetandcanvas.com.au.
GEO:-32.044463429758;115.81179955691
X-APPLE-STRUCTURED-LOCATION;VALUE=URI;X-ADDRESS=The Studio – Myaree 2/17 Hulme Ct Myaree WA 6154 Australia;X-APPLE-RADIUS=500;X-TITLE=2/17 Hulme Ct:geo:115.81179955691,-32.044463429758
END:VEVENT
BEGIN:VEVENT
DTSTART;TZID=Australia/Perth:20251010T183000
DTEND;TZID=Australia/Perth:20251010T210000
DTSTAMP:20260421T134701
CREATED:20250913T102513Z
LAST-MODIFIED:20250913T102513Z
UID:10002232-1760121000-1760130000@staging.cabernetandcanvas.com.au
SUMMARY:Paint Your Mate @ Myaree Studio
DESCRIPTION:Paint Your Mate is back! Get in quick as this one is a crowd favourite! \nDon’t know what it is? \nPaint Your Mate is one of our most popular workshop experiences\, where you get to paint whacky colourful portraits of friends\, family members or even yourself. Can’t paint? Don’t worry\, we draw inspiration from Picasso for these sessions\, so they are intentionally unrealistic. These Piccasso-esque paintings are sure to brighten up any room and we personally think they are perfect for team- building events. \nWhat you need to know: \n\nWhere: The Cabernet & Canvas Studio (2/17 Hulme Court\, Myaree)\n\n\nWhen: Friday the 10th of October 2025\n\n\nTime: Arrive at 6.15pm for a 6.30pm start… Sharp!\n\n\nDuration: Class will run for approximately 2—2.5 hours\n\nTickets include all required painting materials. Just show up ready to have a good time and wear something you don’t mind getting paint on… just in case! \nAbout Cabernet & Canvas \nWelcome to Cabernet & Canvas\, Perth’s original hub of creative workshops. Enrol now and experience one of our famous Paint & Sip classes where we teach you step-by-step how to recreate an acrylic painting on canvas. We’ve been teaching these classes for 10 + years\, so don’t worry if you have no painting experience – we will work our magic! \nOur classes are designed to be fun\, social and achievable for beginners. Come on your own or bring a friend. No prior painting experience is required. \nVenue Information \nOur beautiful studio is located in Myaree and is completely BYO so please don’t forget to bring your favourite beverages to let loose. You can also add one of our delicious grazing boxes at checkout.  \nHave a Question? \nCheck out our helpful FAQ’s at the bottom of this page\, or flick us a message via the Contact Us form. \nClick here to view our Privacy Policy and Terms and Conditions.
URL:https://staging.cabernetandcanvas.com.au/event/paint-your-mate-16/
LOCATION:The Studio – Myaree\, 2/17 Hulme Ct\, Myaree\, WA\, 6154\, Australia
CATEGORIES:Myaree,Paint & Sip
ATTACH;FMTTYPE=image/jpeg:https://staging.cabernetandcanvas.com.au/wp-content/uploads/2023/11/Paint-Your-Mate-main-girls.jpg
ORGANIZER;CN="Cabernet & Canvas":MAILTO:hello@cabernetandcanvas.com.au.
GEO:-32.044463429758;115.81179955691
X-APPLE-STRUCTURED-LOCATION;VALUE=URI;X-ADDRESS=The Studio – Myaree 2/17 Hulme Ct Myaree WA 6154 Australia;X-APPLE-RADIUS=500;X-TITLE=2/17 Hulme Ct:geo:115.81179955691,-32.044463429758
END:VEVENT
BEGIN:VEVENT
DTSTART;TZID=Australia/Perth:20251021T183000
DTEND;TZID=Australia/Perth:20251021T210000
DTSTAMP:20260421T134701
CREATED:20250904T091716Z
LAST-MODIFIED:20250907T041718Z
UID:10002230-1761071400-1761080400@staging.cabernetandcanvas.com.au
SUMMARY:Last Light @ The Carine
DESCRIPTION:Welcome to Cabernet & Canvas\, Perth’s original hub of creative workshops. We are excited to be heading north of the river\, and back to The Carine Tavern this October! Enrol now and experience one of our famous Paint & Sip classes where we teach you step-by-step how to recreate an acrylic painting on canvas. We’ve been teaching these classes for 10 + years\, so don’t worry if you have no painting experience – we will work our magic! \nFor this class we will be painting the beautiful Last Light! \nTickets include all required painting materials and a $15 voucher for food & drink. Just show up ready to have a good time and wear something you don’t mind getting paint on… just in case! Talk about a good night out 🙂 \nWhat you need to know: \n\nWhere: The Carine Glades Tavern (493 Beach Rd\, Duncraig WA 6023)\n\n\nWhen: Tuesday the 21st of October 2025\n\n\nTime: Arrive at 6.15pm for a 6.30pm start… Sharp!\n\n\nDuration: Class will run for approximately 2—2.5 hours\n\nVenue Information \nWith its diverse layout you’ll find a place to meet\, eat\, relax or party all under one roof at The Carine. You can learn more about the venue here. \nAbout Cabernet & Canvas \nOur classes are designed to be fun\, social and achievable for beginners. Come on your own or bring a friend. Our artist will walk you through the process step-by-step whilst offering suggestions on how to individualise your artwork. Anyone and everyone are welcome. No prior painting experience is required. \nHave a Question? \nCheck out our helpful FAQ’s at the bottom of this page\, or flick us a message via the Contact Us form. \nClick here to view our Privacy Policy and Terms and Conditions.
URL:https://staging.cabernetandcanvas.com.au/event/last-light-the-carine/
LOCATION:The Carine\, 493 Beach Rd\, Duncraig\, WA\, 6023\, Australia
CATEGORIES:Myaree,Paint & Sip
ATTACH;FMTTYPE=image/jpeg:https://staging.cabernetandcanvas.com.au/wp-content/uploads/2025/07/Last-Light.jpg
ORGANIZER;CN="Cabernet & Canvas":MAILTO:hello@cabernetandcanvas.com.au.
GEO:-31.8452801;115.7875575
X-APPLE-STRUCTURED-LOCATION;VALUE=URI;X-ADDRESS=The Carine 493 Beach Rd Duncraig WA 6023 Australia;X-APPLE-RADIUS=500;X-TITLE=493 Beach Rd:geo:115.7875575,-31.8452801
END:VEVENT
BEGIN:VEVENT
DTSTART;TZID=Australia/Perth:20251024T183000
DTEND;TZID=Australia/Perth:20251024T210000
DTSTAMP:20260421T134701
CREATED:20251003T101037Z
LAST-MODIFIED:20251003T101037Z
UID:10002246-1761330600-1761339600@staging.cabernetandcanvas.com.au
SUMMARY:Watercolour & Wine
DESCRIPTION:Welcome to Cabernet & Canvas\, Perth’s original hub of creative workshops. In this class we will guide you through how to use watercolours as we paint beautiful florals! \nYou will have the opportunity to learn several watercolour techniques and be guided through creation of your florals. \nWe’ve been teaching these classes for 10 + years\, so don’t worry if you have no painting experience – we will work our magic! \nComplimentary drink on arrival! \nWhat you need to know: \n\nWhere: The Cabernet & Canvas Studio (2/17 Hulme Court\, Myaree)\n\n\nWhen: Friday the 24th of October 2025\n\n\nTime: Arrive at 6.15pm for a 6.30pm start… Sharp!\n\n\nDuration: Class will run for approximately 2—2.5 hours\n\nTickets include all required painting materials. Just show up ready to have a good time and wear something you don’t mind getting paint on… just in case! \nVenue Information \nOur beautiful studio is located in Myaree and is completely BYO so please don’t forget to bring your favourite beverages to let loose. You can also add one of our delicious grazing boxes at checkout.  \nAbout Cabernet & Canvas \nOur classes are designed to be fun\, social and achievable for beginners. Come on your own or bring a friend. Our artist will walk you through the process step-by-step whilst offering suggestions on how to individualise your artwork. Anyone and everyone are welcome. No prior painting experience is required. \nHave a Question? \nCheck out our helpful FAQ’s at the bottom of this page\, or flick us a message via the Contact Us form. \nClick here to view our Privacy Policy and Terms and Conditions.
URL:https://staging.cabernetandcanvas.com.au/event/watercolour-wine-4/
LOCATION:The Studio – Myaree\, 2/17 Hulme Ct\, Myaree\, WA\, 6154\, Australia
CATEGORIES:Myaree,Paint & Sip,Special Events,Watercolors
ATTACH;FMTTYPE=image/jpeg:https://staging.cabernetandcanvas.com.au/wp-content/uploads/2024/03/IMG_6561.jpeg
ORGANIZER;CN="Cabernet & Canvas":MAILTO:hello@cabernetandcanvas.com.au.
GEO:-32.044463429758;115.81179955691
X-APPLE-STRUCTURED-LOCATION;VALUE=URI;X-ADDRESS=The Studio – Myaree 2/17 Hulme Ct Myaree WA 6154 Australia;X-APPLE-RADIUS=500;X-TITLE=2/17 Hulme Ct:geo:115.81179955691,-32.044463429758
END:VEVENT
BEGIN:VEVENT
DTSTART;TZID=Australia/Perth:20251025T183000
DTEND;TZID=Australia/Perth:20251025T210000
DTSTAMP:20260421T134701
CREATED:20251003T100347Z
LAST-MODIFIED:20251019T043731Z
UID:10002244-1761417000-1761426000@staging.cabernetandcanvas.com.au
SUMMARY:Pilbara Twilight
DESCRIPTION:Welcome to Cabernet & Canvas\, Perth’s original hub of creative workshops. Enrol now and experience one of our famous Paint & Sip classes where we teach you step-by-step how to recreate an acrylic painting on canvas. We’ve been teaching these classes for 10 + years\, so don’t worry if you have no painting experience – we will work our magic! \nFor this class we will be painting the stunning Pilbara Twilight! \nWhat you need to know: \n\nWhere: The Cabernet & Canvas Studio (2/17 Hulme Court\, Myaree)\n\n\nWhen: Saturday the 25th of October 2025.\n\n\nTime: Arrive at 6.15pm for a 6.30pm start… Sharp!\n\n\nDuration: Class will run for approximately 2—2.5 hours\n\nTickets include all required painting materials. Just show up ready to have a good time and wear something you don’t mind getting paint on… just in case! \nVenue Information \nOur beautiful studio is located in Myaree and is completely BYO so please don’t forget to bring your favourite beverages to let loose. You can also add one of our delicious grazing boxes at checkout.  \nAbout Cabernet & Canvas \nOur classes are designed to be fun\, social and achievable for beginners. Come on your own or bring a friend. Our artist will walk you through the process step-by-step whilst offering suggestions on how to individualise your artwork. Anyone and everyone is welcome. No prior painting experience is required. \nHave a Question? \nCheck out our helpful FAQ’s at the bottom of this page\, or flick us a message via the Contact Us form. \nClick here to view our Privacy Policy and Terms and Conditions.
URL:https://staging.cabernetandcanvas.com.au/event/pilbara-twilight-6/
LOCATION:The Studio – Myaree\, 2/17 Hulme Ct\, Myaree\, WA\, 6154\, Australia
CATEGORIES:Myaree,Paint & Sip,Weekend Class
ATTACH;FMTTYPE=image/jpeg:https://staging.cabernetandcanvas.com.au/wp-content/uploads/2024/02/Pilbara-Twilight-2.jpg
ORGANIZER;CN="Cabernet & Canvas":MAILTO:hello@cabernetandcanvas.com.au.
GEO:-32.044463429758;115.81179955691
X-APPLE-STRUCTURED-LOCATION;VALUE=URI;X-ADDRESS=The Studio – Myaree 2/17 Hulme Ct Myaree WA 6154 Australia;X-APPLE-RADIUS=500;X-TITLE=2/17 Hulme Ct:geo:115.81179955691,-32.044463429758
END:VEVENT
BEGIN:VEVENT
DTSTART;TZID=Australia/Perth:20251031T183000
DTEND;TZID=Australia/Perth:20251031T210000
DTSTAMP:20260421T134701
CREATED:20250903T102912Z
LAST-MODIFIED:20250920T072054Z
UID:10002229-1761935400-1761944400@staging.cabernetandcanvas.com.au
SUMMARY:Sugar Skull Halloween Special! Myaree Studio
DESCRIPTION:That’s right\, it’s time for our Halloween special – Sugar Skulls! Complimentary welcome drink on arrival. 🙂 \n A best seller\, so be quick before it sells out! \nWhat you need to know: \n\nWhere: The Cabernet and Canvas Studio (2/17 Hulme Court\, Myaree)\n\n\nWhen: Friday the 31st of October\, 2025\n\n\nTime: Arrive at 6.15pm for a 6.30pm start… Sharp!\n\n\nDuration: Class will run for approximately 2—2.5 hours\n\nTickets include all required painting materials. Just show up ready to have a good time and wear something you don’t mind getting paint on… just in case! \nAbout Cabernet & Canvas \nWelcome to Cabernet & Canvas\, Perth’s original hub of creative workshops. Enrol now and experience one of our famous Paint & Sip classes where we teach you step-by-step how to recreate an acrylic painting on canvas. We’ve been teaching these classes for 10 + years\, so don’t worry if you have no painting experience – we will work our magic! \nOur classes are designed to be fun\, social and achievable for beginners. Come on your own or bring a friend. No prior painting experience is required. \nVenue Information \nOur beautiful studio is located in Myaree and is completely BYO so please don’t forget to bring your favourite beverages to let loose. You can also add one of our delicious grazing boxes by AmazingGrazingWA at checkout.  \nHave a Question? \nCheck out our helpful FAQ’s at the bottom of this page\, or flick us a message via the Contact Us form. \nClick here to view our Privacy Policy and Terms and Conditions.
URL:https://staging.cabernetandcanvas.com.au/event/sugar-skull-halloween-special/
LOCATION:The Studio – Myaree\, 2/17 Hulme Ct\, Myaree\, WA\, 6154\, Australia
CATEGORIES:Myaree,Paint & Sip
ATTACH;FMTTYPE=image/png:https://staging.cabernetandcanvas.com.au/wp-content/uploads/2025/09/Untitled-design-1.png
ORGANIZER;CN="Cabernet & Canvas":MAILTO:hello@cabernetandcanvas.com.au.
GEO:-32.044463429758;115.81179955691
X-APPLE-STRUCTURED-LOCATION;VALUE=URI;X-ADDRESS=The Studio – Myaree 2/17 Hulme Ct Myaree WA 6154 Australia;X-APPLE-RADIUS=500;X-TITLE=2/17 Hulme Ct:geo:115.81179955691,-32.044463429758
END:VEVENT
END:VCALENDAR