BEGIN:VCALENDAR
VERSION:2.0
PRODID:-//Cabernet &amp; Canvas - ECPv6.15.16//NONSGML v1.0//EN
CALSCALE:GREGORIAN
METHOD:PUBLISH
X-WR-CALNAME:Cabernet &amp; Canvas
X-ORIGINAL-URL:https://staging.cabernetandcanvas.com.au
X-WR-CALDESC:Events for Cabernet &amp; Canvas
REFRESH-INTERVAL;VALUE=DURATION:PT1H
X-Robots-Tag:noindex
X-PUBLISHED-TTL:PT1H
BEGIN:VTIMEZONE
TZID:Australia/Perth
BEGIN:STANDARD
TZOFFSETFROM:+0800
TZOFFSETTO:+0800
TZNAME:AWST
DTSTART:20220101T000000
END:STANDARD
END:VTIMEZONE
BEGIN:VEVENT
DTSTART;TZID=Australia/Perth:20231104T140000
DTEND;TZID=Australia/Perth:20231104T170000
DTSTAMP:20260421T114311
CREATED:20231004T050359Z
LAST-MODIFIED:20240223T035627Z
UID:10001877-1699106400-1699117200@staging.cabernetandcanvas.com.au
SUMMARY:High Tea Paint & Sip with Turquoise Cafe
DESCRIPTION:Our famous High Tea event is coming to Turquoise Mandurah! Indulge in a delightful fusion of creativity and elegance at our High Tea Paint & Sip event! Tickets include 2 hours of free flowing booze and a three- tiered platter of high tea canapaes to share while you paint the afternoon away! \nWhen to come? – Arrive from 1:45pm to get settled in\, ready for 2pm kick off! \nWhat to bring? – Yourself! All painting materials are provided. \nWhat to wear? – We provide you with an apron but recommend wearing something you wouldn’t mind getting paint on… just in case! Although acrylic paint is water-soluble\, it is nearly impossible to remove once it dries completely. \nVenue Information \n\n\nB.Y.O. is not permitted as this is a licensed venue \n\n\nDisability access is available \n\n\nTerms & Conditions \nFor questions regarding booking\, registration\, and general information\, please contact us at hello@cabernetandcanvas.com.au or view our  Privacy Policy and Terms and Conditions.
URL:https://staging.cabernetandcanvas.com.au/event/high-tea-paint-sip-with-turquoise-cafe/
LOCATION:Turquoise Cafe Mandurah\, 22 Ormsby Terrace\, Mandurah\, WA\, 6210\, Australia
CATEGORIES:Mandurah,Paint & Sip,Weekend Class
ATTACH;FMTTYPE=image/jpeg:https://staging.cabernetandcanvas.com.au/wp-content/uploads/2023/10/High-Tea-Paint-Sip-with-Turquoise-Cafe.jpg
GEO:-32.5274049;115.7176689
X-APPLE-STRUCTURED-LOCATION;VALUE=URI;X-ADDRESS=Turquoise Cafe Mandurah 22 Ormsby Terrace Mandurah WA 6210 Australia;X-APPLE-RADIUS=500;X-TITLE=22 Ormsby Terrace:geo:115.7176689,-32.5274049
END:VEVENT
END:VCALENDAR