BEGIN:VCALENDAR
VERSION:2.0
PRODID:-//Cabernet &amp; Canvas - ECPv6.15.16//NONSGML v1.0//EN
CALSCALE:GREGORIAN
METHOD:PUBLISH
X-ORIGINAL-URL:https://staging.cabernetandcanvas.com.au
X-WR-CALDESC:Events for Cabernet &amp; Canvas
REFRESH-INTERVAL;VALUE=DURATION:PT1H
X-Robots-Tag:noindex
X-PUBLISHED-TTL:PT1H
BEGIN:VTIMEZONE
TZID:Australia/Perth
BEGIN:STANDARD
TZOFFSETFROM:+0800
TZOFFSETTO:+0800
TZNAME:AWST
DTSTART:20230101T000000
END:STANDARD
END:VTIMEZONE
BEGIN:VEVENT
DTSTART;TZID=Australia/Perth:20240326T183000
DTEND;TZID=Australia/Perth:20240326T210000
DTSTAMP:20260421T065026
CREATED:20231129T080454Z
LAST-MODIFIED:20240315T034407Z
UID:10001955-1711477800-1711486800@staging.cabernetandcanvas.com.au
SUMMARY:Cheap Tuesdays: A Whale of a Time
DESCRIPTION:Welcome to Cabernet & Canvas\, Perth’s original hub of creative workshops. Enroll now and experience one of our famous Paint & Sip classes where we teach you step-by-step how to recreate an acrylic painting on canvas. We’ve been teaching these classes for 10 + years\, so don’t worry if you have no painting experience – we will work our magic! \nFor this class we will be painting A Whale of a Time – one of our crowd favourites! \nWhat you need to know: \n\nWhere: The Cab Canvas Studio (2/17 Hulme Court\, Myaree)\n\n\nWhen: Tuesday the 26th of March\, 2024\n\n\nTime: Arrive at 6.15pm for a 6.30pm start… Sharp!\n\n\nDuration: Class will run for approximately 2—2.5 hours\n\nTickets include all required painting materials. Just show up ready to have a good time and wear something you don’t mind getting paint on… just in case! \nVenue Information \nOur beautiful studio is located in Myaree and is completely BYO so please don’t forget to bring your favourite beverages to let loose. You can also add one of our delicious grazing boxes by AmazingGrazingWA at checkout.  \nAbout Cabernet & Canvas \nOur classes are designed to be fun\, social and achievable for beginners. Come on your own or bring a friend. Our artist will walk you through the process step-by-step whilst offering suggestions on how to individualize your artwork. Anyone and everyone is welcome. No prior painting experience is required. \nHave a Question? \nCheck out our helpful FAQ’s at the bottom of this page\, or flick us a message via the Contact Us form. \nClick here to view our Privacy Policy and Terms and Conditions.
URL:https://staging.cabernetandcanvas.com.au/event/cheap-tuesdays-a-whale-of-a-time/
LOCATION:The Studio – Myaree\, 2/17 Hulme Ct\, Myaree\, WA\, 6154\, Australia
CATEGORIES:Cheap Tuesdays,Myaree,Paint & Sip
ATTACH;FMTTYPE=image/jpeg:https://staging.cabernetandcanvas.com.au/wp-content/uploads/2023/11/A-Whale-of-a-Time.jpg
ORGANIZER;CN="Cabernet & Canvas":MAILTO:hello@cabernetandcanvas.com.au.
GEO:-32.044463429758;115.81179955691
X-APPLE-STRUCTURED-LOCATION;VALUE=URI;X-ADDRESS=The Studio – Myaree 2/17 Hulme Ct Myaree WA 6154 Australia;X-APPLE-RADIUS=500;X-TITLE=2/17 Hulme Ct:geo:115.81179955691,-32.044463429758
END:VEVENT
BEGIN:VEVENT
DTSTART;TZID=Australia/Perth:20240423T183000
DTEND;TZID=Australia/Perth:20240423T210000
DTSTAMP:20260421T065026
CREATED:20231011T073611Z
LAST-MODIFIED:20240320T044042Z
UID:10001921-1713897000-1713906000@staging.cabernetandcanvas.com.au
SUMMARY:Cheap Tuesdays: Hot Girl Summer
DESCRIPTION:Welcome to Cabernet & Canvas\, Perth’s original hub of creative workshops. Enroll now and experience one of our famous Paint & Sip classes where we teach you step-by-step how to recreate an acrylic painting on canvas. We’ve been teaching these classes for 10 + years\, so don’t worry if you have no painting experience – we will work our magic! \nFor this class we will be painting Hot Girl Summer\, inspired by the Amalfi Coast! \nWhat you need to know: \n\nWhere: The Cab Canvas Studio (2/17 Hulme Court\, Myaree)\n\n\nWhen: Tuesday the 23rd of April\, 2024\n\n\nTime: Arrive at 6.15pm for a 6.30pm start… Sharp!\n\n\nDuration: Class will run for approximately 2—2.5 hours\n\nTickets include all required painting materials. Just show up ready to have a good time and wear something you don’t mind getting paint on… just in case! \nVenue Information \nOur beautiful studio is located in Myaree and is completely BYO so please don’t forget to bring your favourite beverages to let loose. You can also add one of our delicious grazing boxes by AmazingGrazingWA at checkout. \nAbout Cabernet & Canvas \nOur classes are designed to be fun\, social and achievable for beginners. Come on your own or bring a friend. Our artist will walk you through the process step-by-step whilst offering suggestions on how to individualize your artwork. Anyone and everyone is welcome. No prior painting experience is required. \nHave a Question? \nCheck out our helpful FAQ’s at the bottom of this page\, or flick us a message via the Contact Us form. \nClick here to view our Privacy Policy and Terms and Conditions.
URL:https://staging.cabernetandcanvas.com.au/event/hot-girl-summer/
LOCATION:The Studio – Myaree\, 2/17 Hulme Ct\, Myaree\, WA\, 6154\, Australia
CATEGORIES:Cheap Tuesdays,Myaree,Paint & Sip
ATTACH;FMTTYPE=image/jpeg:https://staging.cabernetandcanvas.com.au/wp-content/uploads/2023/10/Hot-Girl-Summer.jpg
ORGANIZER;CN="Cabernet & Canvas":MAILTO:hello@cabernetandcanvas.com.au.
GEO:-32.044463429758;115.81179955691
X-APPLE-STRUCTURED-LOCATION;VALUE=URI;X-ADDRESS=The Studio – Myaree 2/17 Hulme Ct Myaree WA 6154 Australia;X-APPLE-RADIUS=500;X-TITLE=2/17 Hulme Ct:geo:115.81179955691,-32.044463429758
END:VEVENT
BEGIN:VEVENT
DTSTART;TZID=Australia/Perth:20240521T183000
DTEND;TZID=Australia/Perth:20240521T210000
DTSTAMP:20260421T065026
CREATED:20240301T004756Z
LAST-MODIFIED:20240417T061437Z
UID:10001979-1716316200-1716325200@staging.cabernetandcanvas.com.au
SUMMARY:Cheap Tuesdays: Canola Fields
DESCRIPTION:Welcome to Cabernet & Canvas\, Perth’s original hub of creative workshops. Enroll now and experience one of our famous Paint & Sip classes where we teach you step-by-step how to recreate an acrylic painting on canvas. We’ve been teaching these classes for 10 + years\, so don’t worry if you have no painting experience – we will work our magic! \nFor this class we will be painting the stunning Canola Fields of York\, WA. \nWhat you need to know: \n\nWhere: The Cab Canvas Studio (2/17 Hulme Court\, Myaree)\n\n\nWhen: Tuesday the 21st of May\, 2024\n\n\nTime: Arrive at 6.15pm for a 6.30pm start… Sharp!\n\n\nDuration: Class will run for approximately 2—2.5 hours\n\nTickets include all required painting materials. Just show up ready to have a good time and wear something you don’t mind getting paint on… just in case! \nVenue Information \nOur beautiful studio is located in Myaree and is completely BYO so please don’t forget to bring your favourite beverages to let loose. You can also add one of our delicious grazing boxes by AmazingGrazingWA at checkout. \nAbout Cabernet & Canvas \nOur classes are designed to be fun\, social and achievable for beginners. Come on your own or bring a friend. Our artist will walk you through the process step-by-step whilst offering suggestions on how to individualize your artwork. Anyone and everyone is welcome. No prior painting experience is required. \nHave a Question? \nCheck out our helpful FAQ’s at the bottom of this page\, or flick us a message via the Contact Us form. \nClick here to view our Privacy Policy and Terms and Conditions.
URL:https://staging.cabernetandcanvas.com.au/event/cheap-tuesdays-canola-fields/
LOCATION:The Studio – Myaree\, 2/17 Hulme Ct\, Myaree\, WA\, 6154\, Australia
CATEGORIES:Cheap Tuesdays,Myaree,Paint & Sip
ATTACH;FMTTYPE=image/jpeg:https://staging.cabernetandcanvas.com.au/wp-content/uploads/2024/02/Canolda-Fields.jpeg
ORGANIZER;CN="Cabernet & Canvas":MAILTO:hello@cabernetandcanvas.com.au.
GEO:-32.044463429758;115.81179955691
X-APPLE-STRUCTURED-LOCATION;VALUE=URI;X-ADDRESS=The Studio – Myaree 2/17 Hulme Ct Myaree WA 6154 Australia;X-APPLE-RADIUS=500;X-TITLE=2/17 Hulme Ct:geo:115.81179955691,-32.044463429758
END:VEVENT
BEGIN:VEVENT
DTSTART;TZID=Australia/Perth:20240615T183000
DTEND;TZID=Australia/Perth:20240615T210000
DTSTAMP:20260421T065026
CREATED:20240301T004619Z
LAST-MODIFIED:20240529T052131Z
UID:10001976-1718476200-1718485200@staging.cabernetandcanvas.com.au
SUMMARY:Crazy Cacti
DESCRIPTION:Welcome to Cabernet & Canvas\, Perth’s original hub of creative workshops. Enroll now and experience one of our famous Paint & Sip classes where we teach you step-by-step how to recreate an acrylic painting on canvas. We’ve been teaching these classes for 10 + years\, so don’t worry if you have no painting experience – we will work our magic! \nFor this class we will be painting Crazy Cacti\, an all-time favourite! \nWhat you need to know: \n\nWhere: The Cab Canvas Studio (2/17 Hulme Court\, Myaree)\n\n\nWhen: Saturday the 15th of June\, 2024\n\n\nTime: Arrive at 6.15pm for a 6.30pm start… Sharp!\n\n\nDuration: Class will run for approximately 2—2.5 hours\n\nTickets include all required painting materials. Just show up ready to have a good time and wear something you don’t mind getting paint on… just in case! \nVenue Information \nOur beautiful studio is located in Myaree and is completely BYO so please don’t forget to bring your favourite beverages to let loose. You can also add one of our delicious grazing boxes by AmazingGrazingWA at checkout. \nAbout Cabernet & Canvas \nOur classes are designed to be fun\, social and achievable for beginners. Come on your own or bring a friend. Our artist will walk you through the process step-by-step whilst offering suggestions on how to individualize your artwork. Anyone and everyone is welcome. No prior painting experience is required. \nHave a Question? \nCheck out our helpful FAQ’s at the bottom of this page\, or flick us a message via the Contact Us form. \nClick here to view our Privacy Policy and Terms and Conditions.
URL:https://staging.cabernetandcanvas.com.au/event/cheap-tuesdays-crazy-cacti/
LOCATION:The Studio – Myaree\, 2/17 Hulme Ct\, Myaree\, WA\, 6154\, Australia
CATEGORIES:Cheap Tuesdays,Myaree,Paint & Sip
ATTACH;FMTTYPE=image/jpeg:https://staging.cabernetandcanvas.com.au/wp-content/uploads/2023/10/Crazy-Cacti.jpg
ORGANIZER;CN="Cabernet & Canvas":MAILTO:hello@cabernetandcanvas.com.au.
GEO:-32.044463429758;115.81179955691
X-APPLE-STRUCTURED-LOCATION;VALUE=URI;X-ADDRESS=The Studio – Myaree 2/17 Hulme Ct Myaree WA 6154 Australia;X-APPLE-RADIUS=500;X-TITLE=2/17 Hulme Ct:geo:115.81179955691,-32.044463429758
END:VEVENT
BEGIN:VEVENT
DTSTART;TZID=Australia/Perth:20240813T183000
DTEND;TZID=Australia/Perth:20240813T210000
DTSTAMP:20260421T065026
CREATED:20240703T033214Z
LAST-MODIFIED:20240703T033214Z
UID:10002021-1723573800-1723582800@staging.cabernetandcanvas.com.au
SUMMARY:Cheap Tuesday: Budgie Bonanza
DESCRIPTION:Join us on the second Tuesday of every month for our Cheap Tuesday Paint & Sip – the same amazing experience as all our classes\, just cheaper! We’ve been teaching these classes for 10 + years\, so don’t worry if you have no painting experience – we will work our magic! \nFor this class we will be painting the quirky Budgie Bonanza\, a crowd fave! \nWhat you need to know: \n\nWhere: The Cab Canvas Studio (2/17 Hulme Court\, Myaree)\n\n\nWhen: Tuesday the 13th of August\, 2024\n\n\nTime: Arrive at 6.15pm for a 6.30pm start… Sharp!\n\n\nDuration: Class will run for approximately 2—2.5 hours\n\nTickets include all required painting materials. Just show up ready to have a good time and wear something you don’t mind getting paint on… just in case! \nVenue Information \nOur beautiful studio is located in Myaree and is completely BYO so please don’t forget to bring your favourite beverages to let loose. You can also add one of our delicious grazing boxes by AmazingGrazingWA at checkout. \nAbout Cabernet & Canvas \nOur classes are designed to be fun\, social and achievable for beginners. Come on your own or bring a friend. Our artist will walk you through the process step-by-step whilst offering suggestions on how to individualize your artwork. Anyone and everyone is welcome. No prior painting experience is required. \nHave a Question? \nCheck out our helpful FAQ’s at the bottom of this page\, or flick us a message via the Contact Us form. \nClick here to view our Privacy Policy and Terms and Conditions.
URL:https://staging.cabernetandcanvas.com.au/event/cheap-tuesday-budgie-bonanza/
LOCATION:The Studio – Myaree\, 2/17 Hulme Ct\, Myaree\, WA\, 6154\, Australia
CATEGORIES:Cheap Tuesdays,Myaree,Paint & Sip
ATTACH;FMTTYPE=image/jpeg:https://staging.cabernetandcanvas.com.au/wp-content/uploads/2024/07/IMG_4714-2.jpg
ORGANIZER;CN="Cabernet & Canvas":MAILTO:hello@cabernetandcanvas.com.au.
GEO:-32.044463429758;115.81179955691
X-APPLE-STRUCTURED-LOCATION;VALUE=URI;X-ADDRESS=The Studio – Myaree 2/17 Hulme Ct Myaree WA 6154 Australia;X-APPLE-RADIUS=500;X-TITLE=2/17 Hulme Ct:geo:115.81179955691,-32.044463429758
END:VEVENT
BEGIN:VEVENT
DTSTART;TZID=Australia/Perth:20241112T183000
DTEND;TZID=Australia/Perth:20241112T210000
DTSTAMP:20260421T065026
CREATED:20240807T033403Z
LAST-MODIFIED:20240807T033403Z
UID:10002055-1731436200-1731445200@staging.cabernetandcanvas.com.au
SUMMARY:Cheap Tuesday: Dance Of The Pink Flamingo
DESCRIPTION:Join us on the second Tuesday of every month for our Cheap Tuesday Paint & Sip – the same amazing experience as all our classes\, just cheaper! We’ve been teaching these classes for 10 + years\, so don’t worry if you have no painting experience – we will work our magic! \nFor this class we will be painting the quirky and bright Dance of the Pink flamingo\, a crowd fave! \nWhat you need to know: \n\nWhere: The Cab Canvas Studio (2/17 Hulme Court\, Myaree)\n\n\nWhen: Tuesday the 12th of November\, 2024\n\n\nTime: Arrive at 6.15pm for a 6.30pm start… Sharp!\n\n\nDuration: Class will run for approximately 2—2.5 hours\n\nTickets include all required painting materials. Just show up ready to have a good time and wear something you don’t mind getting paint on… just in case! \nVenue Information \nOur beautiful studio is located in Myaree and is completely BYO so please don’t forget to bring your favourite beverages to let loose. You can also add one of our delicious grazing boxes by AmazingGrazingWA at checkout. \nAbout Cabernet & Canvas \nOur classes are designed to be fun\, social and achievable for beginners. Come on your own or bring a friend. Our artist will walk you through the process step-by-step whilst offering suggestions on how to individualize your artwork. Anyone and everyone is welcome. No prior painting experience is required. \nHave a Question? \nCheck out our helpful FAQ’s at the bottom of this page\, or flick us a message via the Contact Us form. \nClick here to view our Privacy Policy and Terms and Conditions.
URL:https://staging.cabernetandcanvas.com.au/event/cheap-tuesday-dance-of-the-pink-flamingo/
LOCATION:The Studio – Myaree\, 2/17 Hulme Ct\, Myaree\, WA\, 6154\, Australia
CATEGORIES:Cheap Tuesdays,Myaree,Paint & Sip
ATTACH;FMTTYPE=image/jpeg:https://staging.cabernetandcanvas.com.au/wp-content/uploads/2023/06/Dance-of-the-pink-flamingo-1.jpg
ORGANIZER;CN="Cabernet & Canvas":MAILTO:hello@cabernetandcanvas.com.au.
GEO:-32.044463429758;115.81179955691
X-APPLE-STRUCTURED-LOCATION;VALUE=URI;X-ADDRESS=The Studio – Myaree 2/17 Hulme Ct Myaree WA 6154 Australia;X-APPLE-RADIUS=500;X-TITLE=2/17 Hulme Ct:geo:115.81179955691,-32.044463429758
END:VEVENT
BEGIN:VEVENT
DTSTART;TZID=Australia/Perth:20241210T183000
DTEND;TZID=Australia/Perth:20241210T210000
DTSTAMP:20260421T065026
CREATED:20240807T034423Z
LAST-MODIFIED:20240807T034423Z
UID:10002064-1733855400-1733864400@staging.cabernetandcanvas.com.au
SUMMARY:Cheap Tuesday: Winter Morning
DESCRIPTION:Join us on the second Tuesday of every month for our Cheap Tuesday Paint & Sip – the same amazing experience as all our classes\, just cheaper! We’ve been teaching these classes for 10 + years\, so don’t worry if you have no painting experience – we will work our magic! \nFor this class we will be painting Winter Morning\, to get in the festive spirit! \nWhat you need to know: \n\nWhere: The Cab Canvas Studio (2/17 Hulme Court\, Myaree)\n\n\nWhen: Tuesday the 10th of December\, 2024\n\n\nTime: Arrive at 6.15pm for a 6.30pm start… Sharp!\n\n\nDuration: Class will run for approximately 2—2.5 hours\n\nTickets include all required painting materials. Just show up ready to have a good time and wear something you don’t mind getting paint on… just in case! \nVenue Information \nOur beautiful studio is located in Myaree and is completely BYO so please don’t forget to bring your favourite beverages to let loose. You can also add one of our delicious grazing boxes by AmazingGrazingWA at checkout. \nAbout Cabernet & Canvas \nOur classes are designed to be fun\, social and achievable for beginners. Come on your own or bring a friend. Our artist will walk you through the process step-by-step whilst offering suggestions on how to individualize your artwork. Anyone and everyone is welcome. No prior painting experience is required. \nHave a Question? \nCheck out our helpful FAQ’s at the bottom of this page\, or flick us a message via the Contact Us form. \nClick here to view our Privacy Policy and Terms and Conditions.
URL:https://staging.cabernetandcanvas.com.au/event/cheap-tuesday-winter-morning/
LOCATION:The Studio – Myaree\, 2/17 Hulme Ct\, Myaree\, WA\, 6154\, Australia
CATEGORIES:Cheap Tuesdays,Christmas,Myaree,Paint & Sip
ATTACH;FMTTYPE=image/jpeg:https://staging.cabernetandcanvas.com.au/wp-content/uploads/2023/10/Cheap-Tuesdays-Winter-Morning.jpg
ORGANIZER;CN="Cabernet & Canvas":MAILTO:hello@cabernetandcanvas.com.au.
GEO:-32.044463429758;115.81179955691
X-APPLE-STRUCTURED-LOCATION;VALUE=URI;X-ADDRESS=The Studio – Myaree 2/17 Hulme Ct Myaree WA 6154 Australia;X-APPLE-RADIUS=500;X-TITLE=2/17 Hulme Ct:geo:115.81179955691,-32.044463429758
END:VEVENT
BEGIN:VEVENT
DTSTART;TZID=Australia/Perth:20250114T183000
DTEND;TZID=Australia/Perth:20250114T210000
DTSTAMP:20260421T065026
CREATED:20240807T035858Z
LAST-MODIFIED:20240807T035858Z
UID:10002072-1736879400-1736888400@staging.cabernetandcanvas.com.au
SUMMARY:Cheap Tuesday: Rottnest Lighthouse
DESCRIPTION:Join us on the second Tuesday of every month for our Cheap Tuesday Paint & Sip – the same amazing experience as all our classes\, just cheaper! We’ve been teaching these classes for 10 + years\, so don’t worry if you have no painting experience – we will work our magic! \nFor this class we will be painting the colourful Rottnest Lighthouse\, a crowd fave! \nWhat you need to know: \n\nWhere: The Cab Canvas Studio (2/17 Hulme Court\, Myaree)\n\n\nWhen: Tuesday the 14th of January\, 2024\n\n\nTime: Arrive at 6.15pm for a 6.30pm start… Sharp!\n\n\nDuration: Class will run for approximately 2—2.5 hours\n\nTickets include all required painting materials. Just show up ready to have a good time and wear something you don’t mind getting paint on… just in case! \nVenue Information \nOur beautiful studio is located in Myaree and is completely BYO so please don’t forget to bring your favourite beverages to let loose. You can also add one of our delicious grazing boxes by AmazingGrazingWA at checkout. \nAbout Cabernet & Canvas \nOur classes are designed to be fun\, social and achievable for beginners. Come on your own or bring a friend. Our artist will walk you through the process step-by-step whilst offering suggestions on how to individualize your artwork. Anyone and everyone is welcome. No prior painting experience is required. \nHave a Question? \nCheck out our helpful FAQ’s at the bottom of this page\, or flick us a message via the Contact Us form. \nClick here to view our Privacy Policy and Terms and Conditions.
URL:https://staging.cabernetandcanvas.com.au/event/cheap-tuesday-rottnest-lighthouse/
LOCATION:The Studio – Myaree\, 2/17 Hulme Ct\, Myaree\, WA\, 6154\, Australia
CATEGORIES:Cheap Tuesdays,Myaree,Paint & Sip
ATTACH;FMTTYPE=image/jpeg:https://staging.cabernetandcanvas.com.au/wp-content/uploads/2024/08/Rottnest-Lighthouse-display-pic.jpg
ORGANIZER;CN="Cabernet & Canvas":MAILTO:hello@cabernetandcanvas.com.au.
GEO:-32.044463429758;115.81179955691
X-APPLE-STRUCTURED-LOCATION;VALUE=URI;X-ADDRESS=The Studio – Myaree 2/17 Hulme Ct Myaree WA 6154 Australia;X-APPLE-RADIUS=500;X-TITLE=2/17 Hulme Ct:geo:115.81179955691,-32.044463429758
END:VEVENT
BEGIN:VEVENT
DTSTART;TZID=Australia/Perth:20250304T183000
DTEND;TZID=Australia/Perth:20250304T210000
DTSTAMP:20260421T065026
CREATED:20250210T082011Z
LAST-MODIFIED:20250210T082811Z
UID:10002103-1741113000-1741122000@staging.cabernetandcanvas.com.au
SUMMARY:Monets: Water Lilies
DESCRIPTION:Welcome to Cabernet & Canvas\, Perth’s original hub of creative workshops. Enrol now and experience one of our famous Paint & Sip classes where we teach you step-by-step how to recreate an acrylic painting on canvas. We’ve been teaching these classes for 10 + years\, so don’t worry if you have no painting experience – we will work our magic! \nFor this class we will be painting Monet’s Water Lilies! \nWhat you need to know: \n\nWhere: The Cab Canvas Studio; 2/17 Hulme Court\, Myaree.\n\nWhen: Tuesday | 4th of March\, 2025\nTime: Arrive at 6.15pm for a 6.30pm start… Sharp!\nDuration: Class will run for approximately 2—2.5 hours\n\nTickets include all required painting materials. Just show up ready to have a good time and wear something you don’t mind getting paint on… just in case! \nVenue Information \nOur beautiful studio is located in Myaree and is completely BYO so please don’t forget to bring your favourite beverages to let loose. You can also add one of our delicious grazing boxes at checkout.  \nAbout Cabernet & Canvas \nOur classes are designed to be fun\, social and achievable for beginners. Come on your own or bring a friend. Our artist will walk you through the process step-by-step whilst offering suggestions on how to individualise your artwork. Anyone and everyone are welcome. No prior painting experience is required. \nHave a Question? \nCheck out our helpful FAQ’s at the bottom of this page or flick us a message via the Contact Us form. \nClick here to view our Privacy Policy and Terms and Conditions.
URL:https://staging.cabernetandcanvas.com.au/event/monets-water-lilies/
LOCATION:The Studio – Myaree\, 2/17 Hulme Ct\, Myaree\, WA\, 6154\, Australia
CATEGORIES:Cheap Tuesdays,Myaree,Paint & Sip
ATTACH;FMTTYPE=image/jpeg:https://staging.cabernetandcanvas.com.au/wp-content/uploads/2025/02/Monet-Waterlilly-2.jpg
ORGANIZER;CN="Cabernet & Canvas":MAILTO:hello@cabernetandcanvas.com.au.
GEO:-32.044463429758;115.81179955691
X-APPLE-STRUCTURED-LOCATION;VALUE=URI;X-ADDRESS=The Studio – Myaree 2/17 Hulme Ct Myaree WA 6154 Australia;X-APPLE-RADIUS=500;X-TITLE=2/17 Hulme Ct:geo:115.81179955691,-32.044463429758
END:VEVENT
BEGIN:VEVENT
DTSTART;TZID=Australia/Perth:20250325T183000
DTEND;TZID=Australia/Perth:20250325T210000
DTSTAMP:20260421T065026
CREATED:20250216T022105Z
LAST-MODIFIED:20250216T022105Z
UID:10002116-1742927400-1742936400@staging.cabernetandcanvas.com.au
SUMMARY:Cheap Tuesday: Pink Lake Esperance
DESCRIPTION:Welcome to Cabernet & Canvas\, Perth’s original hub of creative workshops. Enrol now and experience one of our famous Paint & Sip classes where we teach you step-by-step how to recreate an acrylic painting on canvas. We’ve been teaching these classes for 10 + years\, so don’t worry if you have no painting experience – we will work our magic! \nFor this class we will be painting the Pink Lake Esperance! \nWhat you need to know: \n\nWhere: The Cab Canvas Studio (2/17 Hulme Court\, Myaree)\n\n\nWhen: Tuesday the 25th of March\, 2025\n\n\nTime: Arrive at 6.15pm for a 6.30pm start… Sharp!\n\n\nDuration: Class will run for approximately 2—2.5 hours\n\nTickets include all required painting materials. Just show up ready to have a good time and wear something you don’t mind getting paint on… just in case! \nVenue Information \nOur beautiful studio is located in Myaree and is completely BYO so please don’t forget to bring your favourite beverages to let loose. You can also add one of our delicious grazing boxes at checkout. \nAbout Cabernet & Canvas \nOur classes are designed to be fun\, social and achievable for beginners. Come on your own or bring a friend. Our artist will walk you through the process step-by-step whilst offering suggestions on how to individualize your artwork. Anyone and everyone is welcome. No prior painting experience is required. \nHave a Question? \nCheck out our helpful FAQ’s at the bottom of this page\, or flick us a message via the Contact Us form. \nClick here to view our Privacy Policy and Terms and Conditions.
URL:https://staging.cabernetandcanvas.com.au/event/cheap-tuesday-pink-lake-esperance/
LOCATION:The Studio – Myaree\, 2/17 Hulme Ct\, Myaree\, WA\, 6154\, Australia
CATEGORIES:Cheap Tuesdays,Myaree,Paint & Sip
ATTACH;FMTTYPE=image/jpeg:https://staging.cabernetandcanvas.com.au/wp-content/uploads/2025/02/Pink-Salt-Lake-Esperance.jpg
ORGANIZER;CN="Cabernet & Canvas":MAILTO:hello@cabernetandcanvas.com.au.
GEO:-32.044463429758;115.81179955691
X-APPLE-STRUCTURED-LOCATION;VALUE=URI;X-ADDRESS=The Studio – Myaree 2/17 Hulme Ct Myaree WA 6154 Australia;X-APPLE-RADIUS=500;X-TITLE=2/17 Hulme Ct:geo:115.81179955691,-32.044463429758
END:VEVENT
BEGIN:VEVENT
DTSTART;TZID=Australia/Perth:20250328T183000
DTEND;TZID=Australia/Perth:20250328T210000
DTSTAMP:20260421T065026
CREATED:20250216T022412Z
LAST-MODIFIED:20250216T022412Z
UID:10002117-1743186600-1743195600@staging.cabernetandcanvas.com.au
SUMMARY:Crazy Cacti
DESCRIPTION:Welcome to Cabernet & Canvas\, Perth’s original hub of creative workshops. Enroll now and experience one of our famous Paint & Sip classes where we teach you step-by-step how to recreate an acrylic painting on canvas. We’ve been teaching these classes for 10 + years\, so don’t worry if you have no painting experience – we will work our magic! \nFor this class we will be painting Crazy Cacti\, an all-time favourite! \nWhat you need to know: \n\nWhere: The Cab Canvas Studio (2/17 Hulme Court\, Myaree)\n\n\nWhen: Friday the 28th of March\, 2025\n\n\nTime: Arrive at 6.15pm for a 6.30pm start… Sharp!\n\n\nDuration: Class will run for approximately 2—2.5 hours\n\nTickets include all required painting materials. Just show up ready to have a good time and wear something you don’t mind getting paint on… just in case! \nVenue Information \nOur beautiful studio is located in Myaree and is completely BYO so please don’t forget to bring your favourite beverages to let loose. You can also add one of our delicious grazing boxes at checkout. \nAbout Cabernet & Canvas \nOur classes are designed to be fun\, social and achievable for beginners. Come on your own or bring a friend. Our artist will walk you through the process step-by-step whilst offering suggestions on how to individualise your artwork. Anyone and everyone are welcome. No prior painting experience is required. \nHave a Question? \nCheck out our helpful FAQ’s at the bottom of this page\, or flick us a message via the Contact Us form. \nClick here to view our Privacy Policy and Terms and Conditions.
URL:https://staging.cabernetandcanvas.com.au/event/crazy-cacti-2/
LOCATION:The Studio – Myaree\, 2/17 Hulme Ct\, Myaree\, WA\, 6154\, Australia
CATEGORIES:Cheap Tuesdays,Myaree,Paint & Sip
ATTACH;FMTTYPE=image/jpeg:https://staging.cabernetandcanvas.com.au/wp-content/uploads/2023/10/Crazy-Cacti.jpg
ORGANIZER;CN="Cabernet & Canvas":MAILTO:hello@cabernetandcanvas.com.au.
GEO:-32.044463429758;115.81179955691
X-APPLE-STRUCTURED-LOCATION;VALUE=URI;X-ADDRESS=The Studio – Myaree 2/17 Hulme Ct Myaree WA 6154 Australia;X-APPLE-RADIUS=500;X-TITLE=2/17 Hulme Ct:geo:115.81179955691,-32.044463429758
END:VEVENT
END:VCALENDAR